BEGIN:VCALENDAR
VERSION:2.0
PRODID:-//fgtenis - ECPv5.3.0//NONSGML v1.0//EN
CALSCALE:GREGORIAN
METHOD:PUBLISH
X-WR-CALNAME:fgtenis
X-ORIGINAL-URL:https://www.fgtenis.net
X-WR-CALDESC:Eventos para fgtenis
BEGIN:VTIMEZONE
TZID:Europe/Paris
BEGIN:DAYLIGHT
TZOFFSETFROM:+0100
TZOFFSETTO:+0200
TZNAME:CEST
DTSTART:20220327T010000
END:DAYLIGHT
BEGIN:STANDARD
TZOFFSETFROM:+0200
TZOFFSETTO:+0100
TZNAME:CET
DTSTART:20221030T010000
END:STANDARD
BEGIN:DAYLIGHT
TZOFFSETFROM:+0100
TZOFFSETTO:+0200
TZNAME:CEST
DTSTART:20230326T010000
END:DAYLIGHT
BEGIN:STANDARD
TZOFFSETFROM:+0200
TZOFFSETTO:+0100
TZNAME:CET
DTSTART:20231029T010000
END:STANDARD
END:VTIMEZONE
BEGIN:VEVENT
DTSTART;VALUE=DATE:20221231
DTEND;VALUE=DATE:20230109
DTSTAMP:20260425T201240
CREATED:20221110T090028Z
LAST-MODIFIED:20221110T090028Z
UID:20787-1672444800-1673222399@www.fgtenis.net
SUMMARY:XXXV Torneo Senior de Navidad 2022 A Tobeira
DESCRIPTION:Descarga las bases \n \nComparte
URL:https://www.fgtenis.net/evento/xxxv-torneo-senior-de-navidad-2022-a-tobeira/
LOCATION:Club Tenis A Tobeira\, Camiño Tobeira\, 14\, Nigrán\, Pontevedra\, 36370\, España
CATEGORIES:Torneo sin premios en metálico
ATTACH;FMTTYPE=image/jpeg:https://www.fgtenis.net/wp-content/uploads/2022/11/NumHom9106_2022-scaled.jpg
ORGANIZER;CN="Club%20Tenis%20A%20Tobeira":MAILTO:atobeira@gmail.com
END:VEVENT
END:VCALENDAR