BEGIN:VCALENDAR
VERSION:2.0
PRODID:-//fgtenis - ECPv5.3.0//NONSGML v1.0//EN
CALSCALE:GREGORIAN
METHOD:PUBLISH
X-WR-CALNAME:fgtenis
X-ORIGINAL-URL:https://www.fgtenis.net
X-WR-CALDESC:Eventos para fgtenis
BEGIN:VTIMEZONE
TZID:Europe/Paris
BEGIN:DAYLIGHT
TZOFFSETFROM:+0100
TZOFFSETTO:+0200
TZNAME:CEST
DTSTART:20230326T010000
END:DAYLIGHT
BEGIN:STANDARD
TZOFFSETFROM:+0200
TZOFFSETTO:+0100
TZNAME:CET
DTSTART:20231029T010000
END:STANDARD
END:VTIMEZONE
BEGIN:VEVENT
DTSTART;VALUE=DATE:20230703
DTEND;VALUE=DATE:20230710
DTSTAMP:20260425T170509
CREATED:20230629T120043Z
LAST-MODIFIED:20230703T120801Z
UID:24296-1688342400-1688947199@www.fgtenis.net
SUMMARY:XV RANKING SOCIAL RSD HÍPICA 2023
DESCRIPTION:Descarga las bases \n \nComparte
URL:https://www.fgtenis.net/evento/xv-ranking-social-rsd-hipica-2023/
LOCATION:RSD Hípica\, Avenida Metrosidero\, s/n\, A Coruña\, A Coruña\, 15001\, España
CATEGORIES:Torneo social
ATTACH;FMTTYPE=image/jpeg:https://www.fgtenis.net/wp-content/uploads/2023/07/2023-XV-Ranking-RSDH-scaled.jpg
ORGANIZER;CN="RSD%20H%C3%ADpica%20de%20La%20Coru%C3%B1a":MAILTO:administracion@sdhipicalacoruna.com
END:VEVENT
END:VCALENDAR