BEGIN:VCALENDAR
VERSION:2.0
PRODID:-//fgtenis - ECPv5.3.0//NONSGML v1.0//EN
CALSCALE:GREGORIAN
METHOD:PUBLISH
X-WR-CALNAME:fgtenis
X-ORIGINAL-URL:https://www.fgtenis.net
X-WR-CALDESC:Eventos para fgtenis
BEGIN:VTIMEZONE
TZID:Europe/Paris
BEGIN:DAYLIGHT
TZOFFSETFROM:+0100
TZOFFSETTO:+0200
TZNAME:CEST
DTSTART:20230326T010000
END:DAYLIGHT
BEGIN:STANDARD
TZOFFSETFROM:+0200
TZOFFSETTO:+0100
TZNAME:CET
DTSTART:20231029T010000
END:STANDARD
END:VTIMEZONE
BEGIN:VEVENT
DTSTART;VALUE=DATE:20230901
DTEND;VALUE=DATE:20230925
DTSTAMP:20260425T172734
CREATED:20230802T110835Z
LAST-MODIFIED:20230802T151942Z
UID:24937-1693526400-1695599999@www.fgtenis.net
SUMMARY:Torneo Social RSD Hípica 2023
DESCRIPTION:Descargar las bases \n \nComparte
URL:https://www.fgtenis.net/evento/torneo-social-rsd-hipica-2023/
LOCATION:RSD Hípica\, Avenida Metrosidero\, s/n\, A Coruña\, A Coruña\, 15001\, España
CATEGORIES:Torneo social
ATTACH;FMTTYPE=image/jpeg:https://www.fgtenis.net/wp-content/uploads/2023/08/NumHom988_2023-1-scaled.jpg
ORGANIZER;CN="RSD%20H%C3%ADpica%20de%20La%20Coru%C3%B1a":MAILTO:administracion@sdhipicalacoruna.com
END:VEVENT
END:VCALENDAR