BEGIN:VCALENDAR
VERSION:2.0
PRODID:-//fgtenis - ECPv5.3.0//NONSGML v1.0//EN
CALSCALE:GREGORIAN
METHOD:PUBLISH
X-WR-CALNAME:fgtenis
X-ORIGINAL-URL:https://www.fgtenis.net
X-WR-CALDESC:Eventos para fgtenis
BEGIN:VTIMEZONE
TZID:Europe/Paris
BEGIN:DAYLIGHT
TZOFFSETFROM:+0100
TZOFFSETTO:+0200
TZNAME:CEST
DTSTART:20250330T010000
END:DAYLIGHT
BEGIN:STANDARD
TZOFFSETFROM:+0200
TZOFFSETTO:+0100
TZNAME:CET
DTSTART:20251026T010000
END:STANDARD
END:VTIMEZONE
BEGIN:VEVENT
DTSTART;VALUE=DATE:20250829
DTEND;VALUE=DATE:20250922
DTSTAMP:20260425T123628
CREATED:20250808T082947Z
LAST-MODIFIED:20250808T094540Z
UID:41021-1756425600-1758499199@www.fgtenis.net
SUMMARY:Torneo Social RSD Hípica
DESCRIPTION:Descarga las bases \n \n  \nComparte
URL:https://www.fgtenis.net/evento/torneo-social-rsd-hipica-2/
LOCATION:RSD Hípica\, Avenida Metrosidero\, s/n\, A Coruña\, A Coruña\, 15001\, España
CATEGORIES:Torneo social
ATTACH;FMTTYPE=image/jpeg:https://www.fgtenis.net/wp-content/uploads/2025/08/NumHom9106_2025-scaled.jpeg
ORGANIZER;CN="RSD%20H%C3%ADpica%20de%20La%20Coru%C3%B1a":MAILTO:administracion@sdhipicalacoruna.com
END:VEVENT
END:VCALENDAR