BEGIN:VCALENDAR
VERSION:2.0
PRODID:-//fgtenis - ECPv5.3.0//NONSGML v1.0//EN
CALSCALE:GREGORIAN
METHOD:PUBLISH
X-WR-CALNAME:fgtenis
X-ORIGINAL-URL:https://www.fgtenis.net
X-WR-CALDESC:Eventos para fgtenis
BEGIN:VTIMEZONE
TZID:Europe/Paris
BEGIN:DAYLIGHT
TZOFFSETFROM:+0100
TZOFFSETTO:+0200
TZNAME:CEST
DTSTART:20250330T010000
END:DAYLIGHT
BEGIN:STANDARD
TZOFFSETFROM:+0200
TZOFFSETTO:+0100
TZNAME:CET
DTSTART:20251026T010000
END:STANDARD
END:VTIMEZONE
BEGIN:VEVENT
DTSTART;VALUE=DATE:20251227
DTEND;VALUE=DATE:20251229
DTSTAMP:20260425T183328
CREATED:20251120T130120Z
LAST-MODIFIED:20251201T112555Z
UID:44029-1766793600-1766966399@www.fgtenis.net
SUMMARY:Torneo Atlántico Diario de Pickleball
DESCRIPTION:Descarga las bases \n \nComparte
URL:https://www.fgtenis.net/evento/torneo-atlantico-diario-de-pickleball/
LOCATION:Club Campo Vigo\, Rúa de Canido\, 95\, Vigo\, Pontevedra\, 36331\, España
CATEGORIES:Torneo Pickleball
ATTACH;FMTTYPE=image/jpeg:https://www.fgtenis.net/wp-content/uploads/2025/11/TORNEO-atlantico-PICKLEBALLE_page-0001-2-scaled.jpg
ORGANIZER;CN="Club%20Campo%20Vigo":MAILTO:dirdeportiva@clubdecampodevigo.com
END:VEVENT
END:VCALENDAR