BEGIN:VCALENDAR
VERSION:2.0
PRODID:-//fgtenis - ECPv5.3.0//NONSGML v1.0//EN
CALSCALE:GREGORIAN
METHOD:PUBLISH
X-WR-CALNAME:fgtenis
X-ORIGINAL-URL:https://www.fgtenis.net
X-WR-CALDESC:Eventos para fgtenis
BEGIN:VTIMEZONE
TZID:Europe/Paris
BEGIN:DAYLIGHT
TZOFFSETFROM:+0100
TZOFFSETTO:+0200
TZNAME:CEST
DTSTART:20250330T010000
END:DAYLIGHT
BEGIN:STANDARD
TZOFFSETFROM:+0200
TZOFFSETTO:+0100
TZNAME:CET
DTSTART:20251026T010000
END:STANDARD
END:VTIMEZONE
BEGIN:VEVENT
DTSTART;VALUE=DATE:20251222
DTEND;VALUE=DATE:20251229
DTSTAMP:20260425T232732
CREATED:20251113T120341Z
LAST-MODIFIED:20251114T101105Z
UID:43933-1766361600-1766966399@www.fgtenis.net
SUMMARY:Máster Provincial Da Coruña
DESCRIPTION:Descarga las bases \n \nComparte
URL:https://www.fgtenis.net/evento/master-provincial-da-coruna/
LOCATION:Club Tenis Boiromar\, Boiro\, A Coruña\, España
CATEGORIES:Torneo sin premios en metálico
ATTACH;FMTTYPE=image/jpeg:https://www.fgtenis.net/wp-content/uploads/2025/11/NumHom9124_2025-scaled.jpg
ORGANIZER;CN="Club%20Tenis%20Boiromar":MAILTO:clubtenisboiro@hotmail.es
END:VEVENT
END:VCALENDAR