BEGIN:VCALENDAR
VERSION:2.0
PRODID:-//fgtenis - ECPv5.3.0//NONSGML v1.0//EN
CALSCALE:GREGORIAN
METHOD:PUBLISH
X-WR-CALNAME:fgtenis
X-ORIGINAL-URL:https://www.fgtenis.net
X-WR-CALDESC:Eventos para fgtenis
BEGIN:VTIMEZONE
TZID:Europe/Paris
BEGIN:DAYLIGHT
TZOFFSETFROM:+0100
TZOFFSETTO:+0200
TZNAME:CEST
DTSTART:20220327T010000
END:DAYLIGHT
BEGIN:STANDARD
TZOFFSETFROM:+0200
TZOFFSETTO:+0100
TZNAME:CET
DTSTART:20221030T010000
END:STANDARD
BEGIN:DAYLIGHT
TZOFFSETFROM:+0100
TZOFFSETTO:+0200
TZNAME:CEST
DTSTART:20230326T010000
END:DAYLIGHT
BEGIN:STANDARD
TZOFFSETFROM:+0200
TZOFFSETTO:+0100
TZNAME:CET
DTSTART:20231029T010000
END:STANDARD
END:VTIMEZONE
BEGIN:VEVENT
DTSTART;VALUE=DATE:20221230
DTEND;VALUE=DATE:20230109
DTSTAMP:20260425T183728
CREATED:20221209T082009Z
LAST-MODIFIED:20221209T082009Z
UID:21234-1672358400-1673222399@www.fgtenis.net
SUMMARY:LI Torneo de Navidad de Tenis
DESCRIPTION:Descarga las bases \n \nComparte
URL:https://www.fgtenis.net/evento/li-torneo-de-navidad-de-tenis/
LOCATION:Club Tenis Redes\, Calle Liñares\, s/n\, Redes\, A Coruña\, 15002\, España
CATEGORIES:Torneo sin premios en metálico
ATTACH;FMTTYPE=image/jpeg:https://www.fgtenis.net/wp-content/uploads/2022/12/image0-scaled.jpeg
ORGANIZER;CN="Club%20Tenis%20Redes":MAILTO:ctredes@gmail.com
END:VEVENT
END:VCALENDAR