BEGIN:VCALENDAR
VERSION:2.0
PRODID:-//fgtenis - ECPv5.3.0//NONSGML v1.0//EN
CALSCALE:GREGORIAN
METHOD:PUBLISH
X-WR-CALNAME:fgtenis
X-ORIGINAL-URL:https://www.fgtenis.net
X-WR-CALDESC:Eventos para fgtenis
BEGIN:VTIMEZONE
TZID:Europe/Paris
BEGIN:DAYLIGHT
TZOFFSETFROM:+0100
TZOFFSETTO:+0200
TZNAME:CEST
DTSTART:20250330T010000
END:DAYLIGHT
BEGIN:STANDARD
TZOFFSETFROM:+0200
TZOFFSETTO:+0100
TZNAME:CET
DTSTART:20251026T010000
END:STANDARD
END:VTIMEZONE
BEGIN:VEVENT
DTSTART;VALUE=DATE:20250711
DTEND;VALUE=DATE:20250719
DTSTAMP:20260423T122616
CREATED:20250616T111850Z
LAST-MODIFIED:20250626T071626Z
UID:39273-1752192000-1752883199@www.fgtenis.net
SUMMARY:3ª Proba Barbanza - Open de Noia 2025
DESCRIPTION:Descarga las bases \n \nComparte
URL:https://www.fgtenis.net/evento/3a-proba-barbanza/
LOCATION:Pistas Paseo Noia\, P.Poeta Avilés de Taramancos\, 7\, Noia\, A Coruña\, 15200\, España
CATEGORIES:Torneo sin premios en metálico
ATTACH;FMTTYPE=image/jpeg:https://www.fgtenis.net/wp-content/uploads/2025/06/NumHom981_2025-scaled.jpg
ORGANIZER;CN="Club%20Tenis%20Punta%20Salera":MAILTO:clubtenispuntasalera@yahoo.es
END:VEVENT
END:VCALENDAR