BEGIN:VCALENDAR
VERSION:2.0
PRODID:-//fgtenis - ECPv5.3.0//NONSGML v1.0//EN
CALSCALE:GREGORIAN
METHOD:PUBLISH
X-WR-CALNAME:fgtenis
X-ORIGINAL-URL:https://www.fgtenis.net
X-WR-CALDESC:Eventos para fgtenis
BEGIN:VTIMEZONE
TZID:Europe/Paris
BEGIN:DAYLIGHT
TZOFFSETFROM:+0100
TZOFFSETTO:+0200
TZNAME:CEST
DTSTART:20220327T010000
END:DAYLIGHT
BEGIN:STANDARD
TZOFFSETFROM:+0200
TZOFFSETTO:+0100
TZNAME:CET
DTSTART:20221030T010000
END:STANDARD
BEGIN:DAYLIGHT
TZOFFSETFROM:+0100
TZOFFSETTO:+0200
TZNAME:CEST
DTSTART:20230326T010000
END:DAYLIGHT
BEGIN:STANDARD
TZOFFSETFROM:+0200
TZOFFSETTO:+0100
TZNAME:CET
DTSTART:20231029T010000
END:STANDARD
END:VTIMEZONE
BEGIN:VEVENT
DTSTART;VALUE=DATE:20221226
DTEND;VALUE=DATE:20230104
DTSTAMP:20260425T200417
CREATED:20221214T102235Z
LAST-MODIFIED:20221214T102235Z
UID:21425-1672012800-1672790399@www.fgtenis.net
SUMMARY:22 Open de Navidad Marineda
DESCRIPTION:Descarga las bases \n \nComparte
URL:https://www.fgtenis.net/evento/22-open-de-navidad-marineda/
LOCATION:CLUB ESCUELA DE TENIS MARINEDA\, RUA LENDOIRO\, 29\,\, A Barcala\, A CORUÑA\, 15660\, España
CATEGORIES:Torneo sin premios en metálico
ATTACH;FMTTYPE=image/jpeg:https://www.fgtenis.net/wp-content/uploads/2022/12/CARTEL-NAVIDAD-A4-2022-scaled.jpg
ORGANIZER;CN="Escuela%20de%20Tenis%20Marineda":MAILTO:tenismarineda@tenismarineda.net
END:VEVENT
END:VCALENDAR